BEGIN:VCALENDAR
VERSION:2.0
PRODID:-//UNA - ECPv6.15.18//NONSGML v1.0//EN
CALSCALE:GREGORIAN
METHOD:PUBLISH
X-WR-CALNAME:UNA
X-ORIGINAL-URL:https://www.myuna.ca
X-WR-CALDESC:Events for UNA
REFRESH-INTERVAL;VALUE=DURATION:PT1H
X-Robots-Tag:noindex
X-PUBLISHED-TTL:PT1H
BEGIN:VTIMEZONE
TZID:America/Vancouver
BEGIN:DAYLIGHT
TZOFFSETFROM:-0800
TZOFFSETTO:-0700
TZNAME:PDT
DTSTART:20180311T100000
END:DAYLIGHT
BEGIN:STANDARD
TZOFFSETFROM:-0700
TZOFFSETTO:-0800
TZNAME:PST
DTSTART:20181104T090000
END:STANDARD
BEGIN:DAYLIGHT
TZOFFSETFROM:-0800
TZOFFSETTO:-0700
TZNAME:PDT
DTSTART:20190310T100000
END:DAYLIGHT
BEGIN:STANDARD
TZOFFSETFROM:-0700
TZOFFSETTO:-0800
TZNAME:PST
DTSTART:20191103T090000
END:STANDARD
BEGIN:DAYLIGHT
TZOFFSETFROM:-0800
TZOFFSETTO:-0700
TZNAME:PDT
DTSTART:20200308T100000
END:DAYLIGHT
BEGIN:STANDARD
TZOFFSETFROM:-0700
TZOFFSETTO:-0800
TZNAME:PST
DTSTART:20201101T090000
END:STANDARD
END:VTIMEZONE
BEGIN:VEVENT
DTSTART;TZID=America/Vancouver:20190104T000000
DTEND;TZID=America/Vancouver:20190227T235900
DTSTAMP:20260421T041101
CREATED:20200512T011256Z
LAST-MODIFIED:20200512T011256Z
UID:10568-1546560000-1551311940@www.myuna.ca
SUMMARY:New Acquisitions Exhibit
DESCRIPTION:UBC Library’s Music Art and Architecture (MAA) Library and Rare Books and Special Collections (RBSC) are celebrating the new year with an exhibit showcasing a selection of new acquisitions from 2018.\nExplore MAA Library’s selections\, representing all of its subject areas\, and RBSC’s acquisition highlights that include items dating from the 16th century to 2018. The exhibit will be on display until Wednesday\, February 27 on the level 2 of the Irving K. Barber Learning Centre. \nLearn more
URL:https://www.myuna.ca/event/new-acquisitions-exhibit-5/
CATEGORIES:Education
ATTACH;FMTTYPE=image/jpeg:https://www.myuna.ca/assets/media/2020/03/UNA-MAA-RBSC-exhibit_1280x720.jpg
END:VEVENT
BEGIN:VEVENT
DTSTART;TZID=America/Vancouver:20190106T130000
DTEND;TZID=America/Vancouver:20190106T140000
DTSTAMP:20260421T041101
CREATED:20200512T003809Z
LAST-MODIFIED:20200512T011254Z
UID:10338-1546779600-1546783200@www.myuna.ca
SUMMARY:Dinosaur Teeth are Way Cool because...
DESCRIPTION:Did you know that dinosaurs could continuously replace their teeth throughout their lives\, and some had hundreds of teeth in their mouths at one time? Join Dr. Kirstin Brink to examine dinosaur teeth in detail and learn how comparisons between fossils and living animals can help understand the diets\, lifestyles\, and evolution of extinct animals.\nIncluded with museum admission or membership.
URL:https://www.myuna.ca/event/dinosaur-teeth-are-way-cool-because-4/
CATEGORIES:Education
ATTACH;FMTTYPE=image/jpeg:https://www.myuna.ca/assets/media/2020/05/2018.10-Way-Cool-UNA.jpg
END:VEVENT
BEGIN:VEVENT
DTSTART;TZID=America/Vancouver:20190117T170000
DTEND;TZID=America/Vancouver:20190117T203000
DTSTAMP:20260421T041101
CREATED:20200512T003811Z
LAST-MODIFIED:20200512T011254Z
UID:10340-1547744400-1547757000@www.myuna.ca
SUMMARY:Beaty Nocturnal: A Botanical Time Machine
DESCRIPTION:What’s it like to be a botanist? Come and find out at a very special Nocturnal\, where we will explore the museum’s herbarium collection with curator Linda Jennings. \nCome in out of the January cold for an evening\, and learn about how our century old collection is organized\, cared for\, and used by thousands of scientists! \nYou will also discover which plants to look out for during the winter time; around campus and in the forest\, parks and city streets of Vancouver. \nThe museum will be open from 5pm – 8:30pm. \nAdmission by donation.
URL:https://www.myuna.ca/event/beaty-nocturnal-a-botanical-time-machine-4/
CATEGORIES:Education
ATTACH;FMTTYPE=image/jpeg:https://www.myuna.ca/assets/media/2020/05/January-2018-Nocturnal-scaled.jpg
END:VEVENT
END:VCALENDAR