BEGIN:VCALENDAR
VERSION:2.0
PRODID:-//UNA - ECPv6.15.18//NONSGML v1.0//EN
CALSCALE:GREGORIAN
METHOD:PUBLISH
X-ORIGINAL-URL:https://www.myuna.ca
X-WR-CALDESC:Events for UNA
REFRESH-INTERVAL;VALUE=DURATION:PT1H
X-Robots-Tag:noindex
X-PUBLISHED-TTL:PT1H
BEGIN:VTIMEZONE
TZID:America/Vancouver
BEGIN:DAYLIGHT
TZOFFSETFROM:-0800
TZOFFSETTO:-0700
TZNAME:PDT
DTSTART:20190310T100000
END:DAYLIGHT
BEGIN:STANDARD
TZOFFSETFROM:-0700
TZOFFSETTO:-0800
TZNAME:PST
DTSTART:20191103T090000
END:STANDARD
BEGIN:DAYLIGHT
TZOFFSETFROM:-0800
TZOFFSETTO:-0700
TZNAME:PDT
DTSTART:20200308T100000
END:DAYLIGHT
BEGIN:STANDARD
TZOFFSETFROM:-0700
TZOFFSETTO:-0800
TZNAME:PST
DTSTART:20201101T090000
END:STANDARD
BEGIN:DAYLIGHT
TZOFFSETFROM:-0800
TZOFFSETTO:-0700
TZNAME:PDT
DTSTART:20210314T100000
END:DAYLIGHT
BEGIN:STANDARD
TZOFFSETFROM:-0700
TZOFFSETTO:-0800
TZNAME:PST
DTSTART:20211107T090000
END:STANDARD
END:VTIMEZONE
BEGIN:VEVENT
DTSTART;TZID=America/Vancouver:20200611T191500
DTEND;TZID=America/Vancouver:20200611T191500
DTSTAMP:20260419T190001
CREATED:20200605T004104Z
LAST-MODIFIED:20200605T004526Z
UID:11084-1591902900-1591902900@www.myuna.ca
SUMMARY:Special UNA Board Meeting (Closed Meeting)
DESCRIPTION:The meeting will be closed to the public in order for the Board to discuss matters for which disclosure could be harmful to the interests of the Association. \nAs per Ministerial Order No. M116 the meeting will take place electronically.
URL:https://www.myuna.ca/event/notice-of-special-closed-board-meeting/
LOCATION:BC
CATEGORIES:Governance
ATTACH;FMTTYPE=image/png:https://www.myuna.ca/assets/media/2020/04/UNA-PlainTwitter-01-1024x576-1.png
END:VEVENT
BEGIN:VEVENT
DTSTART;TZID=America/Vancouver:20200616T173000
DTEND;TZID=America/Vancouver:20200616T193000
DTSTAMP:20260419T190001
CREATED:20200526T234009Z
LAST-MODIFIED:20200616T165350Z
UID:11059-1592328600-1592335800@www.myuna.ca
SUMMARY:UNA Board Meeting
DESCRIPTION:UNA Board of Directors meetings are held on the third Tuesday of each month. During the pandemic\, as per Ministerial Order No. M116\, meetings will be taking place over video conference to mitigate the spread of the virus that causes COVID-19. \nResidents are invited to attend all open sessions. If a delegation wishes to address the Board\, advance permission must be sought from the Chief Administrative Officer prior to the publication of the agenda. If advance permission has not been sought\, a delegation may address the Board if approved by a resolution of the Directors (Board Procedures Policy\, s. 40-41). \n\nMeeting Package\nJoin the Meeting Here
URL:https://www.myuna.ca/event/una-board-meeting-june-2020/
LOCATION:BC
CATEGORIES:Governance
ATTACH;FMTTYPE=image/png:https://www.myuna.ca/assets/media/2020/04/UNA-PlainTwitter-01-1024x576-1.png
END:VEVENT
END:VCALENDAR