BEGIN:VCALENDAR
VERSION:2.0
PRODID:-//UNA - ECPv6.15.18//NONSGML v1.0//EN
CALSCALE:GREGORIAN
METHOD:PUBLISH
X-ORIGINAL-URL:https://www.myuna.ca
X-WR-CALDESC:Events for UNA
REFRESH-INTERVAL;VALUE=DURATION:PT1H
X-Robots-Tag:noindex
X-PUBLISHED-TTL:PT1H
BEGIN:VTIMEZONE
TZID:America/Vancouver
BEGIN:DAYLIGHT
TZOFFSETFROM:-0800
TZOFFSETTO:-0700
TZNAME:PDT
DTSTART:20250309T100000
END:DAYLIGHT
BEGIN:STANDARD
TZOFFSETFROM:-0700
TZOFFSETTO:-0800
TZNAME:PST
DTSTART:20251102T090000
END:STANDARD
BEGIN:DAYLIGHT
TZOFFSETFROM:-0800
TZOFFSETTO:-0700
TZNAME:PDT
DTSTART:20260308T100000
END:DAYLIGHT
BEGIN:STANDARD
TZOFFSETFROM:-0700
TZOFFSETTO:-0800
TZNAME:PST
DTSTART:20261101T090000
END:STANDARD
BEGIN:DAYLIGHT
TZOFFSETFROM:-0800
TZOFFSETTO:-0700
TZNAME:PDT
DTSTART:20270314T100000
END:DAYLIGHT
BEGIN:STANDARD
TZOFFSETFROM:-0700
TZOFFSETTO:-0800
TZNAME:PST
DTSTART:20271107T090000
END:STANDARD
END:VTIMEZONE
BEGIN:VEVENT
DTSTART;TZID=America/Vancouver:20260305T113000
DTEND;TZID=America/Vancouver:20260305T123000
DTSTAMP:20260424T034350
CREATED:20251219T003241Z
LAST-MODIFIED:20260121T184636Z
UID:21787-1772710200-1772713800@www.myuna.ca
SUMMARY:Soups and Social
DESCRIPTION:Connect and nourish at Soups + Social. This monthly lunch brings together seniors to cultivate conversation\, friendship and social connections. Each session features a fresh\, nourishing soup prepared by the BC Brain Wellness Program team\, with dietitian\, Raihan Hassen who will be sharing nutrition tips and answering questions. \nMar 5: Veggie Lentil Soup \nIngredients: Vegetable Oil\, Onions\, Garlic\, Red Chilies\, Turmeric\, Garam Masala\, Curry Powder\, Ground Black Pepper\, Veggie bouillon\, Brown lentils\, Potatoes\, Carrots\, Broccoli and Bread
URL:https://www.myuna.ca/event/soups-and-social-4/
LOCATION:Wesbrook Community Centre\, 3335 Webber Lane\, Vancouver\, BC\, V6S 0H3\, Canada
CATEGORIES:Featured
ATTACH;FMTTYPE=image/png:https://www.myuna.ca/assets/media/2025/12/Soup-and-Social-1920x1080-v2-1.png
END:VEVENT
BEGIN:VEVENT
DTSTART;TZID=America/Vancouver:20260307T173000
DTEND;TZID=America/Vancouver:20260307T203000
DTSTAMP:20260424T034350
CREATED:20260119T232228Z
LAST-MODIFIED:20260119T232228Z
UID:21852-1772904600-1772915400@www.myuna.ca
SUMMARY:Family Movie Night
DESCRIPTION:Join us for Family Movie Night and enjoy a cozy evening together at the Barn. Chairs will be  provided\, but feel free to bring blankets and  pillows for extra comfort. Popcorn\, snacks\, and  drinks will be available for purchase (cash or card). \nCaregivers must accompany children. \nDoors open at 5:30 p.m. Movie begins at 6:00 p.m. \n\nWinter 2026 Series \n\nJanuary 17\, 2026 – How to Train your Dragon (2025)\nFebruary 7\, 2026 – Sonic the Hedgehog 3\nMarch 7\, 2026 – Zootopia 2
URL:https://www.myuna.ca/event/family-movie-night-13/2026-03-07/
LOCATION:Old Barn Community Centre\, 6308 Thunderbird Blvd\, Vancouver\, BC\, V6T1Z4\, Canada
CATEGORIES:Community,Entertainment,Featured
ATTACH;FMTTYPE=image/png:https://www.myuna.ca/assets/media/2026/01/UNA-Family-Movie-Night-1920x1080-v2.png
END:VEVENT
BEGIN:VEVENT
DTSTART;TZID=America/Vancouver:20260312T110000
DTEND;TZID=America/Vancouver:20260312T123000
DTSTAMP:20260424T034350
CREATED:20251219T003407Z
LAST-MODIFIED:20260121T184713Z
UID:21781-1773313200-1773318600@www.myuna.ca
SUMMARY:Healthy Aging Seminar Series
DESCRIPTION:Join monthly seminars on healthy aging. This is a volunteer-led program. Registration is required. \nMarch 12: See the Difference: Understanding Eye Health As We Age \nOur eyes play a vital role in maintaining quality of life as we age. This interactive workshop will explore how vision changes over time and what changes are normal. Learn what signs should not be ignored\, and how healthy habits and regular eye exams can help protect your sight. We will cover common eye conditions in seniors and introduce simple eye exercises for daily comfort and eye health! \nUBC Vision Health is a student-led initiative at the University of British Columbia dedicated to promoting awareness\, education\, and access to eye health and vision care in the community. Through workshops\, outreach events\, and community partnerships\, UBC Vision Health aims to empower individuals with practical knowledge about eye health\, early detection of eye conditions\, and strategies to support long-term visual well-being.
URL:https://www.myuna.ca/event/healthy-aging-seminar-series-3/
LOCATION:Wesbrook Community Centre\, 3335 Webber Lane\, Vancouver\, BC\, V6S 0H3\, Canada
CATEGORIES:Education,Featured,Workshop
ATTACH;FMTTYPE=image/jpeg:https://www.myuna.ca/assets/media/2025/12/Healthy-Aging-Web-NL-Updated-1.jpg
END:VEVENT
BEGIN:VEVENT
DTSTART;TZID=America/Vancouver:20260314T110000
DTEND;TZID=America/Vancouver:20260314T143000
DTSTAMP:20260424T034350
CREATED:20260119T231013Z
LAST-MODIFIED:20260119T231600Z
UID:21842-1773486000-1773498600@www.myuna.ca
SUMMARY:Spring Art Fair
DESCRIPTION:Saturday\, March 14\, 2026 | 11 a.m. to 2:30 p.m. | Wesbrook Community Centre \nCelebrate Creativity at the UNA Spring Art Fair! Celebrate the arrival of spring with a community celebration of art\, creativity\, and performance for all ages! The Spring Art Fair brings together local artisans\, performers\, and families for a day filled with music\, crafts\, and creativity. \nInterested in being a vendor or performing? Visit myuna.ca/springartfair to learn more.
URL:https://www.myuna.ca/event/spring-art-fair-2026/
LOCATION:Wesbrook Community Centre\, 3335 Webber Lane\, Vancouver\, BC\, V6S 0H3\, Canada
CATEGORIES:Community,Entertainment,Featured
ATTACH;FMTTYPE=image/png:https://www.myuna.ca/assets/media/2025/11/UNA-Spring-Art-Fair-1920x1080-v2.png
END:VEVENT
END:VCALENDAR