BEGIN:VCALENDAR
VERSION:2.0
PRODID:-//UNA - ECPv6.15.18//NONSGML v1.0//EN
CALSCALE:GREGORIAN
METHOD:PUBLISH
X-ORIGINAL-URL:https://www.myuna.ca
X-WR-CALDESC:Events for UNA
REFRESH-INTERVAL;VALUE=DURATION:PT1H
X-Robots-Tag:noindex
X-PUBLISHED-TTL:PT1H
BEGIN:VTIMEZONE
TZID:America/Vancouver
BEGIN:DAYLIGHT
TZOFFSETFROM:-0800
TZOFFSETTO:-0700
TZNAME:PDT
DTSTART:20250309T100000
END:DAYLIGHT
BEGIN:STANDARD
TZOFFSETFROM:-0700
TZOFFSETTO:-0800
TZNAME:PST
DTSTART:20251102T090000
END:STANDARD
BEGIN:DAYLIGHT
TZOFFSETFROM:-0800
TZOFFSETTO:-0700
TZNAME:PDT
DTSTART:20260308T100000
END:DAYLIGHT
BEGIN:STANDARD
TZOFFSETFROM:-0700
TZOFFSETTO:-0800
TZNAME:PST
DTSTART:20261101T090000
END:STANDARD
BEGIN:DAYLIGHT
TZOFFSETFROM:-0800
TZOFFSETTO:-0700
TZNAME:PDT
DTSTART:20270314T100000
END:DAYLIGHT
BEGIN:STANDARD
TZOFFSETFROM:-0700
TZOFFSETTO:-0800
TZNAME:PST
DTSTART:20271107T090000
END:STANDARD
END:VTIMEZONE
BEGIN:VEVENT
DTSTART;TZID=America/Vancouver:20260521T110000
DTEND;TZID=America/Vancouver:20260521T123000
DTSTAMP:20260422T042458
CREATED:20260417T193903Z
LAST-MODIFIED:20260417T194045Z
UID:22333-1779361200-1779366600@www.myuna.ca
SUMMARY:Healthy Aging Seminar Series
DESCRIPTION:Join monthly seminars on healthy aging. This is a volunteer-led program. Registration is required. \nMay 21: Aging in a Digital World: Innovative Tech Use in Elder Care  \nJoin the UBC IDEA Lab for an engaging tech talk exploring how innovative technologies such as virtual reality and a student-developed app are being used to support older adults in health\, wellbeing\, and social connection. This session will highlight how these tools can create meaningful experiences\, promote engagement\, and help address real challenges faced in aging and care. Discover the journey behind this innovative health technology initiative\, including its challenges\, breakthroughs\, and the exciting potential it holds for improving the lives of older adults. \n  \nThe UBC IDEA Lab conducts intergenerational research that advances knowledge through mutual learning between students and older adults. By combining students’ energy and curiosity with older adults’ lived experience and wisdom\, the lab creates spaces where technology and ideas are shared. These encounters foster appreciation\, transform thinking and practice\, and drive innovation to build a more inclusive and compassionate world.
URL:https://www.myuna.ca/event/healthy-aging-seminar-series-5/
LOCATION:Wesbrook Community Centre\, 3335 Webber Lane\, Vancouver\, BC\, V6S 0H3\, Canada
CATEGORIES:Education,Featured
ATTACH;FMTTYPE=image/jpeg:https://www.myuna.ca/assets/media/2025/12/Healthy-Aging-Web-NL-Updated-1.jpg
END:VEVENT
END:VCALENDAR