BEGIN:VCALENDAR
VERSION:2.0
PRODID:-//UNA - ECPv6.15.18//NONSGML v1.0//EN
CALSCALE:GREGORIAN
METHOD:PUBLISH
X-WR-CALNAME:UNA
X-ORIGINAL-URL:https://www.myuna.ca
X-WR-CALDESC:Events for UNA
REFRESH-INTERVAL;VALUE=DURATION:PT1H
X-Robots-Tag:noindex
X-PUBLISHED-TTL:PT1H
BEGIN:VTIMEZONE
TZID:America/Vancouver
BEGIN:DAYLIGHT
TZOFFSETFROM:-0800
TZOFFSETTO:-0700
TZNAME:PDT
DTSTART:20250309T100000
END:DAYLIGHT
BEGIN:STANDARD
TZOFFSETFROM:-0700
TZOFFSETTO:-0800
TZNAME:PST
DTSTART:20251102T090000
END:STANDARD
BEGIN:DAYLIGHT
TZOFFSETFROM:-0800
TZOFFSETTO:-0700
TZNAME:PDT
DTSTART:20260308T100000
END:DAYLIGHT
BEGIN:STANDARD
TZOFFSETFROM:-0700
TZOFFSETTO:-0800
TZNAME:PST
DTSTART:20261101T090000
END:STANDARD
BEGIN:DAYLIGHT
TZOFFSETFROM:-0800
TZOFFSETTO:-0700
TZNAME:PDT
DTSTART:20270314T100000
END:DAYLIGHT
BEGIN:STANDARD
TZOFFSETFROM:-0700
TZOFFSETTO:-0800
TZNAME:PST
DTSTART:20271107T090000
END:STANDARD
END:VTIMEZONE
BEGIN:VEVENT
DTSTART;TZID=America/Vancouver:20260618T110000
DTEND;TZID=America/Vancouver:20260618T123000
DTSTAMP:20260422T060306
CREATED:20260417T194436Z
LAST-MODIFIED:20260417T194436Z
UID:22335-1781780400-1781785800@www.myuna.ca
SUMMARY:Healthy Aging Seminar Series
DESCRIPTION:Join monthly seminars on healthy aging. This is a volunteer-led program. Registration is required. \nJune 18: Healthy Hearts\, Healthy Lives: Social Connection and Heart Health\nThis talk will review the science of social connections and survival\, the gaps in heart disease research on social connections\, and the current results of new studies on which social connections affect the risk factors of heart health in both women and men in mid to later life.\nSpeaker: \nA former CIHR Postdoctoral Fellow (2014) and Gates Cambridge Scholar (2011)\, Dr. Annalijn Conklin is an associate professor at UBC and leads a program of social epidemiology and metabolic outcomes research (SEMOR) to support healthy aging and reduce heart health inequities in women in Canada. Using both quantitative and qualitative research methods\, Conklin examines how broader social determinants\, such as social ties or job loss\, impact cardiovascular risk factors differentially for women and men.
URL:https://www.myuna.ca/event/healthy-aging-seminar-series-6/
CATEGORIES:Education,Featured
ATTACH;FMTTYPE=image/jpeg:https://www.myuna.ca/assets/media/2025/12/Healthy-Aging-Web-NL-Updated-1.jpg
END:VEVENT
BEGIN:VEVENT
DTSTART;TZID=America/Vancouver:20260625T110000
DTEND;TZID=America/Vancouver:20260625T123000
DTSTAMP:20260422T060306
CREATED:20260331T000823Z
LAST-MODIFIED:20260331T001336Z
UID:22273-1782385200-1782390600@www.myuna.ca
SUMMARY:Soups and Social
DESCRIPTION:Connect and nourish at Soups and Social. Join us each month more a cozy lunch where you can enjoy delicious homemade soup and connect with friends both familiar and new! \nEach session features a fresh nourishing soup prepared by BC Brain Wellness Program team and an interactive nutrition workshop led by Dietitian Raihan Hassen. \nJune 25: Gazpacho (Cold Soup) \nIngredients: Olive oil\, Cucumber\, Tomatoes\, Cherry Tomatoes\, Bell peppers\, Red Onions\, Garlic\, Vinegar\, Fresh basil and Parsley\, Baguettes
URL:https://www.myuna.ca/event/event-soups-and-social-7/
LOCATION:Wesbrook Community Centre\, 3335 Webber Lane\, Vancouver\, BC\, V6S 0H3\, Canada
CATEGORIES:Community,Featured
ATTACH;FMTTYPE=image/png:https://www.myuna.ca/assets/media/2026/03/Soup-and-Social-1920x1080-v2-2.png
END:VEVENT
END:VCALENDAR