BEGIN:VCALENDAR
VERSION:2.0
PRODID:-//UNA - ECPv6.15.18//NONSGML v1.0//EN
CALSCALE:GREGORIAN
METHOD:PUBLISH
X-ORIGINAL-URL:https://www.myuna.ca
X-WR-CALDESC:Events for UNA
REFRESH-INTERVAL;VALUE=DURATION:PT1H
X-Robots-Tag:noindex
X-PUBLISHED-TTL:PT1H
BEGIN:VTIMEZONE
TZID:America/Vancouver
BEGIN:DAYLIGHT
TZOFFSETFROM:-0800
TZOFFSETTO:-0700
TZNAME:PDT
DTSTART:20200308T100000
END:DAYLIGHT
BEGIN:STANDARD
TZOFFSETFROM:-0700
TZOFFSETTO:-0800
TZNAME:PST
DTSTART:20201101T090000
END:STANDARD
BEGIN:DAYLIGHT
TZOFFSETFROM:-0800
TZOFFSETTO:-0700
TZNAME:PDT
DTSTART:20210314T100000
END:DAYLIGHT
BEGIN:STANDARD
TZOFFSETFROM:-0700
TZOFFSETTO:-0800
TZNAME:PST
DTSTART:20211107T090000
END:STANDARD
BEGIN:DAYLIGHT
TZOFFSETFROM:-0800
TZOFFSETTO:-0700
TZNAME:PDT
DTSTART:20220313T100000
END:DAYLIGHT
BEGIN:STANDARD
TZOFFSETFROM:-0700
TZOFFSETTO:-0800
TZNAME:PST
DTSTART:20221106T090000
END:STANDARD
END:VTIMEZONE
BEGIN:VEVENT
DTSTART;VALUE=DATE:20210422
DTEND;VALUE=DATE:20210423
DTSTAMP:20260422T012434
CREATED:20210414T214630Z
LAST-MODIFIED:20210416T215039Z
UID:12304-1619049600-1619135999@www.myuna.ca
SUMMARY:Earth Day Quest
DESCRIPTION:On this Earth Day 2021\, we invite you to get outside and connect with the environment in our neighbourhoods. \n\nDownload a UNA Earth Day Quest handout or pick one up in person at the Wesbrook Community Centre front desk.\nSend a photo of yourself on the quest to julia.gellman@myuna.ca for your chance to win an Earth Day prize! Your photo may be shared by the UNA. By submitting a photo of yourself\, you consent to the UNA’s photo release terms.\n\nSubmissions accepted from April 19-25.
URL:https://www.myuna.ca/event/earth-day-2021/
LOCATION:UNA Neighbourhoods
CATEGORIES:Community,UNA Events
ATTACH;FMTTYPE=image/jpeg:https://www.myuna.ca/assets/media/2021/04/EarthDay2021.jpg
END:VEVENT
END:VCALENDAR