BEGIN:VCALENDAR
VERSION:2.0
PRODID:-//UNA - ECPv6.15.18//NONSGML v1.0//EN
CALSCALE:GREGORIAN
METHOD:PUBLISH
X-WR-CALNAME:UNA
X-ORIGINAL-URL:https://www.myuna.ca
X-WR-CALDESC:Events for UNA
REFRESH-INTERVAL;VALUE=DURATION:PT1H
X-Robots-Tag:noindex
X-PUBLISHED-TTL:PT1H
BEGIN:VTIMEZONE
TZID:America/Vancouver
BEGIN:DAYLIGHT
TZOFFSETFROM:-0800
TZOFFSETTO:-0700
TZNAME:PDT
DTSTART:20210314T100000
END:DAYLIGHT
BEGIN:STANDARD
TZOFFSETFROM:-0700
TZOFFSETTO:-0800
TZNAME:PST
DTSTART:20211107T090000
END:STANDARD
BEGIN:DAYLIGHT
TZOFFSETFROM:-0800
TZOFFSETTO:-0700
TZNAME:PDT
DTSTART:20220313T100000
END:DAYLIGHT
BEGIN:STANDARD
TZOFFSETFROM:-0700
TZOFFSETTO:-0800
TZNAME:PST
DTSTART:20221106T090000
END:STANDARD
BEGIN:DAYLIGHT
TZOFFSETFROM:-0800
TZOFFSETTO:-0700
TZNAME:PDT
DTSTART:20230312T100000
END:DAYLIGHT
BEGIN:STANDARD
TZOFFSETFROM:-0700
TZOFFSETTO:-0800
TZNAME:PST
DTSTART:20231105T090000
END:STANDARD
END:VTIMEZONE
BEGIN:VEVENT
DTSTART;TZID=America/Vancouver:20220205T130000
DTEND;TZID=America/Vancouver:20220205T150000
DTSTAMP:20260421T071703
CREATED:20220131T205908Z
LAST-MODIFIED:20220204T185238Z
UID:13556-1644066000-1644073200@www.myuna.ca
SUMMARY:Lunar New Year Activities
DESCRIPTION:The UNA community is invited to join in on Lunar New Year activities throughout February. \n\nCelebration Booth: Drop-in at the Wesbrook Community Centre on Saturday\, February 5\, 2022 from 1-3 p.m. to pick-up Lunar New Year give-aways. The booths will be observing COVID-19 safety protocols.\nTiger Artworks: A tiger-themed artwork gallery will be on display at the Wesbrook Community Centre during the month of February.\nCalling All Artists! We are calling for tiger-themed artwork submissions from the community. Any form of art is welcome. The deadline for submission is January 31. Please contact Qiuning Wang at qiuning.wang@myuna.ca for more info.\n\nPlease note that due to an abundance of care for the safety of our community\, the Lunar New Year Committee has decided to cancel the Lion Dance and the larger gathering at the Wesbrook Community Centre gymnasium.
URL:https://www.myuna.ca/event/lunar-new-year-activities/
LOCATION:Wesbrook Community Centre\, 3335 Webber Lane\, Vancouver\, BC\, V6S 0H3\, Canada
CATEGORIES:Community,UNA Events
ATTACH;FMTTYPE=image/jpeg:https://www.myuna.ca/assets/media/2022/01/lny-2022-1.jpg
END:VEVENT
END:VCALENDAR