BEGIN:VCALENDAR
VERSION:2.0
PRODID:-//UNA - ECPv6.15.18//NONSGML v1.0//EN
CALSCALE:GREGORIAN
METHOD:PUBLISH
X-WR-CALNAME:UNA
X-ORIGINAL-URL:https://www.myuna.ca
X-WR-CALDESC:Events for UNA
REFRESH-INTERVAL;VALUE=DURATION:PT1H
X-Robots-Tag:noindex
X-PUBLISHED-TTL:PT1H
BEGIN:VTIMEZONE
TZID:America/Vancouver
BEGIN:DAYLIGHT
TZOFFSETFROM:-0800
TZOFFSETTO:-0700
TZNAME:PDT
DTSTART:20250309T100000
END:DAYLIGHT
BEGIN:STANDARD
TZOFFSETFROM:-0700
TZOFFSETTO:-0800
TZNAME:PST
DTSTART:20251102T090000
END:STANDARD
BEGIN:DAYLIGHT
TZOFFSETFROM:-0800
TZOFFSETTO:-0700
TZNAME:PDT
DTSTART:20260308T100000
END:DAYLIGHT
BEGIN:STANDARD
TZOFFSETFROM:-0700
TZOFFSETTO:-0800
TZNAME:PST
DTSTART:20261101T090000
END:STANDARD
BEGIN:DAYLIGHT
TZOFFSETFROM:-0800
TZOFFSETTO:-0700
TZNAME:PDT
DTSTART:20270314T100000
END:DAYLIGHT
BEGIN:STANDARD
TZOFFSETFROM:-0700
TZOFFSETTO:-0800
TZNAME:PST
DTSTART:20271107T090000
END:STANDARD
END:VTIMEZONE
BEGIN:VEVENT
DTSTART;TZID=America/Vancouver:20260423T110000
DTEND;TZID=America/Vancouver:20260423T123000
DTSTAMP:20260421T051850
CREATED:20260330T234918Z
LAST-MODIFIED:20260331T214000Z
UID:22265-1776942000-1776947400@www.myuna.ca
SUMMARY:Soups and Social
DESCRIPTION:Connect and nourish at Soups and Social. Join us each month more a cozy lunch where you can enjoy delicious homemade soup and connect with friends both familiar and new! \nEach session features a fresh nourishing soup prepared by BC Brain Wellness Program team and an interactive nutrition workshop led by Dietitian Raihan Hassen. \nApr 23: Thai Coconut and Lime Soup with Fish or Tofu \nIngredients:  Vegetable oil\, Onions\, Ginger\, Garlic\, Low-fat Coconut milk\, Vegetable broth\, Red Curry paste\, Fish Sauce\, Limes\, Tomatoes\,  Tofu\, White fish (Cod\, Sole or Tilapia)\, Cilantro\, Green Onions\, Whole wheat baguettes \n 
URL:https://www.myuna.ca/event/soups-and-social-5/
LOCATION:Wesbrook Community Centre\, 3335 Webber Lane\, Vancouver\, BC\, V6S 0H3\, Canada
CATEGORIES:Community
ATTACH;FMTTYPE=image/png:https://www.myuna.ca/assets/media/2026/03/Soup-and-Social-1920x1080-v2-2.png
END:VEVENT
BEGIN:VEVENT
DTSTART;TZID=America/Vancouver:20260521T110000
DTEND;TZID=America/Vancouver:20260521T123000
DTSTAMP:20260421T051850
CREATED:20260417T193903Z
LAST-MODIFIED:20260417T194045Z
UID:22333-1779361200-1779366600@www.myuna.ca
SUMMARY:Healthy Aging Seminar Series
DESCRIPTION:Join monthly seminars on healthy aging. This is a volunteer-led program. Registration is required. \nMay 21: Aging in a Digital World: Innovative Tech Use in Elder Care  \nJoin the UBC IDEA Lab for an engaging tech talk exploring how innovative technologies such as virtual reality and a student-developed app are being used to support older adults in health\, wellbeing\, and social connection. This session will highlight how these tools can create meaningful experiences\, promote engagement\, and help address real challenges faced in aging and care. Discover the journey behind this innovative health technology initiative\, including its challenges\, breakthroughs\, and the exciting potential it holds for improving the lives of older adults. \n  \nThe UBC IDEA Lab conducts intergenerational research that advances knowledge through mutual learning between students and older adults. By combining students’ energy and curiosity with older adults’ lived experience and wisdom\, the lab creates spaces where technology and ideas are shared. These encounters foster appreciation\, transform thinking and practice\, and drive innovation to build a more inclusive and compassionate world.
URL:https://www.myuna.ca/event/healthy-aging-seminar-series-5/
LOCATION:Wesbrook Community Centre\, 3335 Webber Lane\, Vancouver\, BC\, V6S 0H3\, Canada
CATEGORIES:Education,Featured
ATTACH;FMTTYPE=image/jpeg:https://www.myuna.ca/assets/media/2025/12/Healthy-Aging-Web-NL-Updated-1.jpg
END:VEVENT
BEGIN:VEVENT
DTSTART;TZID=America/Vancouver:20260523T190000
DTEND;TZID=America/Vancouver:20260523T213000
DTSTAMP:20260421T051850
CREATED:20260409T212104Z
LAST-MODIFIED:20260409T212104Z
UID:22319-1779562800-1779571800@www.myuna.ca
SUMMARY:Disco Dance
DESCRIPTION:Step into a neighbourhood disco dance party after dark. With feel-good disco beats\, an open dance floor\, and a welcoming community vide\, Night Shift: Disco Dance is all about letting loose close to home. Come as you are\, bring your best moves\, and dance the night away at the Barn. \n\nDJ playing classic dance tunes\nLight refreshments and snacks available\nPhoto booth\n80’s era clothing encouraged
URL:https://www.myuna.ca/event/disco/
LOCATION:Old Barn Community Centre\, 6308 Thunderbird Blvd\, Vancouver\, BC\, V6T1Z4\, Canada
CATEGORIES:Community,Entertainment
ATTACH;FMTTYPE=image/png:https://www.myuna.ca/assets/media/2026/04/Night-Shift-Disco-Dance-1920x1080-v2.png
END:VEVENT
BEGIN:VEVENT
DTSTART;TZID=America/Vancouver:20260528T110000
DTEND;TZID=America/Vancouver:20260528T123000
DTSTAMP:20260421T051850
CREATED:20260331T000050Z
LAST-MODIFIED:20260331T213952Z
UID:22271-1779966000-1779971400@www.myuna.ca
SUMMARY:Soups and Social
DESCRIPTION:Connect and nourish at Soups and Social. Join us each month more a cozy lunch where you can enjoy delicious homemade soup and connect with friends both familiar and new! \nEach session features a fresh nourishing soup prepared by BC Brain Wellness Program team and an interactive nutrition workshop led by Dietitian Raihan Hassen. \nMay 28: Asparagus and Pea Soup \nIngredients: Olive oil\, Asparagus\, Green Peas\, Garlic\, Shallots\, Soy Milk\, Vegetable Broth\, Nutritional Yeast\, Lemons\, Whole Wheat Baguettes\, Toppings: Parmesan Cheese
URL:https://www.myuna.ca/event/event-soups-and-social-6/
LOCATION:Wesbrook Community Centre\, 3335 Webber Lane\, Vancouver\, BC\, V6S 0H3\, Canada
CATEGORIES:Community
ATTACH;FMTTYPE=image/png:https://www.myuna.ca/assets/media/2026/03/Soup-and-Social-1920x1080-v2-2.png
END:VEVENT
BEGIN:VEVENT
DTSTART;TZID=America/Vancouver:20260618T110000
DTEND;TZID=America/Vancouver:20260618T123000
DTSTAMP:20260421T051850
CREATED:20260417T194436Z
LAST-MODIFIED:20260417T194436Z
UID:22335-1781780400-1781785800@www.myuna.ca
SUMMARY:Healthy Aging Seminar Series
DESCRIPTION:Join monthly seminars on healthy aging. This is a volunteer-led program. Registration is required. \nJune 18: Healthy Hearts\, Healthy Lives: Social Connection and Heart Health\nThis talk will review the science of social connections and survival\, the gaps in heart disease research on social connections\, and the current results of new studies on which social connections affect the risk factors of heart health in both women and men in mid to later life.\nSpeaker: \nA former CIHR Postdoctoral Fellow (2014) and Gates Cambridge Scholar (2011)\, Dr. Annalijn Conklin is an associate professor at UBC and leads a program of social epidemiology and metabolic outcomes research (SEMOR) to support healthy aging and reduce heart health inequities in women in Canada. Using both quantitative and qualitative research methods\, Conklin examines how broader social determinants\, such as social ties or job loss\, impact cardiovascular risk factors differentially for women and men.
URL:https://www.myuna.ca/event/healthy-aging-seminar-series-6/
CATEGORIES:Education,Featured
ATTACH;FMTTYPE=image/jpeg:https://www.myuna.ca/assets/media/2025/12/Healthy-Aging-Web-NL-Updated-1.jpg
END:VEVENT
BEGIN:VEVENT
DTSTART;VALUE=DATE:20260621
DTEND;VALUE=DATE:20260622
DTSTAMP:20260421T051850
CREATED:20260203T225144Z
LAST-MODIFIED:20260319T203651Z
UID:21961-1782000000-1782086399@www.myuna.ca
SUMMARY:National Indigenous Peoples Day
DESCRIPTION:Honouring\, learning\, and celebrating Indigenous cultures together.\nJune 21\, 2026 | Old Barn Community Centre\nJoin us for a day of learning\, connection\, and celebration in honour of National Indigenous Peoples Day. This community event will provide opportunities to engage with Indigenous cultures\, share knowledge\, and collaborate with neighbours in meaningful ways.
URL:https://www.myuna.ca/event/nipd2026
LOCATION:Old Barn Community Centre\, 6308 Thunderbird Blvd\, Vancouver\, BC\, V6T1Z4\, Canada
CATEGORIES:Community,Education
ATTACH;FMTTYPE=image/png:https://www.myuna.ca/assets/media/2024/06/UNA-National-Indigenous-Day-1920x1080-v2.png
END:VEVENT
BEGIN:VEVENT
DTSTART;TZID=America/Vancouver:20260625T110000
DTEND;TZID=America/Vancouver:20260625T123000
DTSTAMP:20260421T051850
CREATED:20260331T000823Z
LAST-MODIFIED:20260331T001336Z
UID:22273-1782385200-1782390600@www.myuna.ca
SUMMARY:Soups and Social
DESCRIPTION:Connect and nourish at Soups and Social. Join us each month more a cozy lunch where you can enjoy delicious homemade soup and connect with friends both familiar and new! \nEach session features a fresh nourishing soup prepared by BC Brain Wellness Program team and an interactive nutrition workshop led by Dietitian Raihan Hassen. \nJune 25: Gazpacho (Cold Soup) \nIngredients: Olive oil\, Cucumber\, Tomatoes\, Cherry Tomatoes\, Bell peppers\, Red Onions\, Garlic\, Vinegar\, Fresh basil and Parsley\, Baguettes
URL:https://www.myuna.ca/event/event-soups-and-social-7/
LOCATION:Wesbrook Community Centre\, 3335 Webber Lane\, Vancouver\, BC\, V6S 0H3\, Canada
CATEGORIES:Community,Featured
ATTACH;FMTTYPE=image/png:https://www.myuna.ca/assets/media/2026/03/Soup-and-Social-1920x1080-v2-2.png
END:VEVENT
BEGIN:VEVENT
DTSTART;TZID=America/Vancouver:20260701T110000
DTEND;TZID=America/Vancouver:20260701T140000
DTSTAMP:20260421T051850
CREATED:20250204T000116Z
LAST-MODIFIED:20260319T203759Z
UID:19875-1782903600-1782914400@www.myuna.ca
SUMMARY:Canada Day at the UNA
DESCRIPTION:Come together for a Canada Day full of community\, fun\, and connection. \nJuly 1 | Wesbrook Community Centre | 11 a.m – 2 p.m. | Wesbrook Community Centre \nCelebrate Canada Day with your neighbours at Wesbrook Community Centre! This fun-filled community event will feature activities\, music\, games\, and treats for the whole family. Whether you’re looking to get active\, get creative\, or just enjoy a day out with friends and neighbours\, there will be something for everyone. \nEvent Highlights\n\nArts & Crafts: Get creative with family-friendly activities.\nMusic & Entertainment: Local DJ and musical performances throughout the day.\nBBQ & Snacks: Enjoy tasty bites\, cake\, and more.\nGames & Activities: Lawn games\, family friendly sports\, and surprises for all ages.\n\nSchedule\n\n11:00 AM – Event Opens\n11:30 AM – Opening Welcome\n12:30 PM – Cake Cutting\n2:00 PM – Event Closes\nAll Day – Music\, arts\, games\, and family fun\n\n  \nDon’t forget: Bring a water bottle\, sunscreen\, and your Canadian spirit! \nFor more info or to volunteer\, contact volunteer@myuna.ca.
URL:https://www.myuna.ca/event/canadaday2026/
LOCATION:Wesbrook Community Centre\, 3335 Webber Lane\, Vancouver\, BC\, V6S 0H3\, Canada
CATEGORIES:Art,Community,Entertainment,UNA Events
ATTACH;FMTTYPE=image/png:https://www.myuna.ca/assets/media/2025/06/Canada-Day-Web-With-Canada-Grant.png
END:VEVENT
END:VCALENDAR