BEGIN:VCALENDAR
VERSION:2.0
PRODID:-//UNA - ECPv6.15.18//NONSGML v1.0//EN
CALSCALE:GREGORIAN
METHOD:PUBLISH
X-WR-CALNAME:UNA
X-ORIGINAL-URL:https://www.myuna.ca
X-WR-CALDESC:Events for UNA
REFRESH-INTERVAL;VALUE=DURATION:PT1H
X-Robots-Tag:noindex
X-PUBLISHED-TTL:PT1H
BEGIN:VTIMEZONE
TZID:America/Vancouver
BEGIN:DAYLIGHT
TZOFFSETFROM:-0800
TZOFFSETTO:-0700
TZNAME:PDT
DTSTART:20170312T100000
END:DAYLIGHT
BEGIN:STANDARD
TZOFFSETFROM:-0700
TZOFFSETTO:-0800
TZNAME:PST
DTSTART:20171105T090000
END:STANDARD
BEGIN:DAYLIGHT
TZOFFSETFROM:-0800
TZOFFSETTO:-0700
TZNAME:PDT
DTSTART:20180311T100000
END:DAYLIGHT
BEGIN:STANDARD
TZOFFSETFROM:-0700
TZOFFSETTO:-0800
TZNAME:PST
DTSTART:20181104T090000
END:STANDARD
BEGIN:DAYLIGHT
TZOFFSETFROM:-0800
TZOFFSETTO:-0700
TZNAME:PDT
DTSTART:20190310T100000
END:DAYLIGHT
BEGIN:STANDARD
TZOFFSETFROM:-0700
TZOFFSETTO:-0800
TZNAME:PST
DTSTART:20191103T090000
END:STANDARD
END:VTIMEZONE
BEGIN:VEVENT
DTSTART;TZID=America/Vancouver:20180415T080000
DTEND;TZID=America/Vancouver:20180415T170000
DTSTAMP:20260424T020053
CREATED:20200511T211035Z
LAST-MODIFIED:20200512T011236Z
UID:10055-1523779200-1523811600@www.myuna.ca
SUMMARY:English Reading & Writing
DESCRIPTION:Sign up for our English Reading and Writing Classes catered for different age groups from K-G5. The instructor Jenni is a fully qualified elementary school teacher with 22 years of teaching experiences across 5 continents. She is passionate about reading and sharing this love of reading with children. Jenni believes in the power of books to inspire\, entertain\, teach and be great companions throughout our lifetime.
URL:https://www.myuna.ca/event/english-reading-writing-3/
LOCATION:British Columbia
CATEGORIES:Education
END:VEVENT
BEGIN:VEVENT
DTSTART;TZID=America/Vancouver:20180411T154500
DTEND;TZID=America/Vancouver:20180613T164500
DTSTAMP:20260424T020053
CREATED:20200511T211043Z
LAST-MODIFIED:20200512T011243Z
UID:10059-1523461500-1528908300@www.myuna.ca
SUMMARY:Active Play
DESCRIPTION:(Ages 9 – 12)\nYouth aged 9 to 12 are invited to play\, get active and build friendships. In this club our resident instructor\, Claire Shepansky\, will lead games that encourage personal growth and inclusivity. Activities will include gym games\, team sports\, and even outdoor fun!
URL:https://www.myuna.ca/event/active-play/
LOCATION:British Columbia
CATEGORIES:Sports
END:VEVENT
END:VCALENDAR