BEGIN:VCALENDAR
VERSION:2.0
PRODID:-//UNA - ECPv6.15.18//NONSGML v1.0//EN
CALSCALE:GREGORIAN
METHOD:PUBLISH
X-ORIGINAL-URL:https://www.myuna.ca
X-WR-CALDESC:Events for UNA
REFRESH-INTERVAL;VALUE=DURATION:PT1H
X-Robots-Tag:noindex
X-PUBLISHED-TTL:PT1H
BEGIN:VTIMEZONE
TZID:America/Vancouver
BEGIN:DAYLIGHT
TZOFFSETFROM:-0800
TZOFFSETTO:-0700
TZNAME:PDT
DTSTART:20210314T100000
END:DAYLIGHT
BEGIN:STANDARD
TZOFFSETFROM:-0700
TZOFFSETTO:-0800
TZNAME:PST
DTSTART:20211107T090000
END:STANDARD
BEGIN:DAYLIGHT
TZOFFSETFROM:-0800
TZOFFSETTO:-0700
TZNAME:PDT
DTSTART:20220313T100000
END:DAYLIGHT
BEGIN:STANDARD
TZOFFSETFROM:-0700
TZOFFSETTO:-0800
TZNAME:PST
DTSTART:20221106T090000
END:STANDARD
BEGIN:DAYLIGHT
TZOFFSETFROM:-0800
TZOFFSETTO:-0700
TZNAME:PDT
DTSTART:20230312T100000
END:DAYLIGHT
BEGIN:STANDARD
TZOFFSETFROM:-0700
TZOFFSETTO:-0800
TZNAME:PST
DTSTART:20231105T090000
END:STANDARD
END:VTIMEZONE
BEGIN:VEVENT
DTSTART;TZID=America/Vancouver:20221104T193000
DTEND;TZID=America/Vancouver:20221104T210000
DTSTAMP:20260421T090123
CREATED:20221017T183734Z
LAST-MODIFIED:20221017T183734Z
UID:14747-1667590200-1667595600@www.myuna.ca
SUMMARY:Games in Music: Halo\, WoW\, LOTR
DESCRIPTION:Guest conductor Lucas Waldin leads the UBC Symphony Orchestra and UBC A Cappella for a night celebrating new and classic video game soundtracks. Experience the epic sounds of Michael Giacchino’s Star Trek: Into the Darkness\, and relive the frenzy of the tetris theme song. VR immersive artist Juliana Loh will paint the scores of Star Wars and Lord of the Rings live. This concert also premieres the orchestral scores of both Celeste and Glitchhikers: The Spaces Between. \nProgram: \nVarious (Ralph Ford)\nSuite from Video Games Live\nHalo Theme / Coronation & Baba Yetu (Civilization IV) / Bounty Hunter (Advent Rising) /Kingdom Hearts \nLena Raine (arr. Gabriella Yorke)\nMusic from Celeste \nMaxime Goulet\nLevel Up!\nRisa Tonita\, keyboard soloist \nHoward Shore (arr. John Whitney)\nSymphonic Suite from Lord of the Rings: The Fellowship of the Ring\nJuliana Loh\, VR immersive artist \nTraditional (arr. Chris Rinaman)\nKorobeiniki Fantasy (Theme from Tetris) \nIntermission \nMichael Giacchino\nStar Trek: Into the Darkness \nDevin Vibert (arr. Antony Knight)\nMusic from Glitchhikers: The Spaces in Between \nBrower/Duke/Hayes (arr. Jerry Brubaker)\nMusic from World of Warcraft \nMaxime Goulet\nBeachball Games for Orchestra \nToby Fox (Steven Stanke)\nMusic from Undertale \nJohn Williams (arr. Stephen Bulla)\nStar Wars Through the Years\nJuliana Loh\, VR immersive artist
URL:https://www.myuna.ca/event/games-in-music-halo-wow-lotr/
LOCATION:Chan Centre for the Performing Arts\, 6265 Crescent Rd\, Vancouver\, BC\, V6T 1Z1\, Canada
CATEGORIES:Entertainment
ATTACH;FMTTYPE=image/png:https://www.myuna.ca/assets/media/2022/10/Games_Music.png
END:VEVENT
BEGIN:VEVENT
DTSTART;TZID=America/Vancouver:20221105T083000
DTEND;TZID=America/Vancouver:20221105T163000
DTSTAMP:20260421T090123
CREATED:20220929T185157Z
LAST-MODIFIED:20220929T185349Z
UID:14666-1667637000-1667665800@www.myuna.ca
SUMMARY:Music & Wellness - Music Care Conference
DESCRIPTION:On Saturday\, November 5th\, 2022 at New Westminister\, BC\,\nthe 14th Annual Canadian Music Care Conference brings together community members interested in music and care. \nPresented by the Room 217 Foundation in partnership with BC Brain Wellness | Music Therapy Association of British Columbia | Vancouver Symphony | Vancouver Adapted Music Society & UBC School of Music.\nEducational & Inspirational\, this conference identifies & integrates common themes & issues using music across the care spectrum & the social implications of music in care. \nFeaturing a musical performance by Music Canada’s 2022 Humanitarian Juno Award winner @SusanAglukark. Susan is a beautiful singer\, powerful songwriter & motivational speaker. She brings her lifetime awards & accomplishments with her discovery of history\, culture & self.\nRegistration for the 2022 Canadian Music Care Conference is now open! \nRegister here: https://www.bcbrainwellness.ca/events/music-care-conference
URL:https://www.myuna.ca/event/music-wellness-music-care-conference/
LOCATION:Anvil Centre\, 777 Columbia Street\, New Westminster\, BC\, V3M 1B6\, Canada
END:VEVENT
BEGIN:VEVENT
DTSTART;TZID=America/Vancouver:20221119T180000
DTEND;TZID=America/Vancouver:20221119T200000
DTSTAMP:20260421T090123
CREATED:20220712T170208Z
LAST-MODIFIED:20220712T171655Z
UID:14368-1668880800-1668888000@www.myuna.ca
SUMMARY:Family Movie Night
DESCRIPTION:Toy Story 4 \nNo registration required. Bring the whole family to the Old Barn Community Centre for Family Movie Night. Chairs will be provided but feel free to bring your blankets and pillows. Parents must accompany their children. Admission is $2 per person. Popcorn\, snacks\, and drinks will be available for cash sale. Doors open at 5:30 p.m.\, movie starts at 6 p.m. \n 
URL:https://www.myuna.ca/event/family-movie-night-10/
LOCATION:Old Barn Community Centre\, 6308 Thunderbird Blvd\, Vancouver\, BC\, V6T1Z4\, Canada
CATEGORIES:Community,UNA Events
END:VEVENT
BEGIN:VEVENT
DTSTART;TZID=America/Vancouver:20221122T120000
DTEND;TZID=America/Vancouver:20221122T130000
DTSTAMP:20260421T090123
CREATED:20220823T174351Z
LAST-MODIFIED:20221025T220024Z
UID:14513-1669118400-1669122000@www.myuna.ca
SUMMARY:Sustainability Session: Climate Anxiety and Wellbeing
DESCRIPTION:Join this virtual Sustainability Session lunch & learn\, exploring a variety of sustainability topics relevant to households and neighbourhoods of the University Neighborhoods Association. \nAs the climate changes we are experiencing more severe weather and health impacts\, which can take its toll on our mental health. This month’s Sustainability Session will dive into climate anxiety and how we can come together to make a difference. Led by facilitators from UBC’s Climate Hub\, we’ll discuss our own climate anxieties and worries\, identify solutions to achieve wellbeing\, and share resources to help ourselves and our community. \nThis workshop is free. RSVP here.
URL:https://www.myuna.ca/event/sustainability-session-climate-anxiety-and-wellbeing/
LOCATION:Virtual\, Canada
CATEGORIES:Community,Workshop
ATTACH;FMTTYPE=image/jpeg:https://www.myuna.ca/assets/media/2022/08/Session-6_Climate-anxiety.jpg
END:VEVENT
END:VCALENDAR