BEGIN:VCALENDAR
VERSION:2.0
PRODID:-//UNA - ECPv6.15.18//NONSGML v1.0//EN
CALSCALE:GREGORIAN
METHOD:PUBLISH
X-WR-CALNAME:UNA
X-ORIGINAL-URL:https://www.myuna.ca
X-WR-CALDESC:Events for UNA
REFRESH-INTERVAL;VALUE=DURATION:PT1H
X-Robots-Tag:noindex
X-PUBLISHED-TTL:PT1H
BEGIN:VTIMEZONE
TZID:America/Vancouver
BEGIN:DAYLIGHT
TZOFFSETFROM:-0800
TZOFFSETTO:-0700
TZNAME:PDT
DTSTART:20220313T100000
END:DAYLIGHT
BEGIN:STANDARD
TZOFFSETFROM:-0700
TZOFFSETTO:-0800
TZNAME:PST
DTSTART:20221106T090000
END:STANDARD
BEGIN:DAYLIGHT
TZOFFSETFROM:-0800
TZOFFSETTO:-0700
TZNAME:PDT
DTSTART:20230312T100000
END:DAYLIGHT
BEGIN:STANDARD
TZOFFSETFROM:-0700
TZOFFSETTO:-0800
TZNAME:PST
DTSTART:20231105T090000
END:STANDARD
BEGIN:DAYLIGHT
TZOFFSETFROM:-0800
TZOFFSETTO:-0700
TZNAME:PDT
DTSTART:20240310T100000
END:DAYLIGHT
BEGIN:STANDARD
TZOFFSETFROM:-0700
TZOFFSETTO:-0800
TZNAME:PST
DTSTART:20241103T090000
END:STANDARD
END:VTIMEZONE
BEGIN:VEVENT
DTSTART;TZID=America/Vancouver:20230413T160000
DTEND;TZID=America/Vancouver:20230413T220000
DTSTAMP:20260421T032858
CREATED:20230324T202005Z
LAST-MODIFIED:20230405T225119Z
UID:15500-1681401600-1681423200@www.myuna.ca
SUMMARY:AMS Block Party 2023
DESCRIPTION:
URL:https://www.myuna.ca/event/ams-block-party-2023/
CATEGORIES:Community,Entertainment,Festival,Music
ATTACH;FMTTYPE=image/png:https://www.myuna.ca/assets/media/2023/03/a89966a1-306.png
END:VEVENT
BEGIN:VEVENT
DTSTART;TZID=America/Vancouver:20230414T100000
DTEND;TZID=America/Vancouver:20230414T103000
DTSTAMP:20260421T032858
CREATED:20230113T174651Z
LAST-MODIFIED:20230510T173727Z
UID:15092-1681466400-1681468200@www.myuna.ca
SUMMARY:Storytime at the Old Barn Community Centre
DESCRIPTION:This is a free drop-in program and registration is not required. Parents and caregivers are invited to bring their toddlers and preschoolers to the Old Barn Living Room for stories with one of our volunteers.
URL:https://www.myuna.ca/event/storytime-at-the-old-barn-community-centre/
LOCATION:Old Barn Community Centre\, 6308 Thunderbird Blvd\, Vancouver\, BC\, V6T1Z4\, Canada
END:VEVENT
BEGIN:VEVENT
DTSTART;TZID=America/Vancouver:20230415T120000
DTEND;TZID=America/Vancouver:20230415T133000
DTSTAMP:20260421T032858
CREATED:20230406T174402Z
LAST-MODIFIED:20230406T174402Z
UID:15587-1681560000-1681565400@www.myuna.ca
SUMMARY:Saturday Afternoon Tea: All About Bumblebees
DESCRIPTION:This program is part of the Live Well\, Stay Strong Project funded by Canada Government’s New Horizons Seniors Program (NHSP) grant. \nSign up for afternoon tea in our spacious ground-floor social room overlooking the park. A guest speaker will lead a casual discussion on various topics.\nRegistration required. Please note\, this session is in English.\nTopic: All About Bumble Bees with Mel the Melittologist
URL:https://www.myuna.ca/event/saturday-afternoon-tea-all-about-bumblebees/
LOCATION:Wesbrook Community Centre\, 3335 Webber Lane\, Vancouver\, BC\, V6S 0H3\, Canada
CATEGORIES:Community,Education,Workshop
END:VEVENT
BEGIN:VEVENT
DTSTART;TZID=America/Vancouver:20230417T083000
DTEND;TZID=America/Vancouver:20230417T130000
DTSTAMP:20260421T032858
CREATED:20230417T201947Z
LAST-MODIFIED:20230417T201947Z
UID:15619-1681720200-1681736400@www.myuna.ca
SUMMARY:BMO Vancouver International Marathon
DESCRIPTION:
URL:https://www.myuna.ca/event/bmo-vancouver-international-marathon/
CATEGORIES:Community,Sports
END:VEVENT
BEGIN:VEVENT
DTSTART;TZID=America/Vancouver:20230419T190000
DTEND;TZID=America/Vancouver:20230419T203000
DTSTAMP:20260421T032858
CREATED:20230405T193203Z
LAST-MODIFIED:20230405T193203Z
UID:15568-1681930800-1681936200@www.myuna.ca
SUMMARY:Heat Pump Retrofit Workshop
DESCRIPTION:Curious about switching to an electric heat pump for heating and cooling? Whether you are a strata condominium owner or a member of a strata council\, the process to retrofit your unit or building with heat pumps can seem overwhelming. This session will provide guidance and education for both owners and council members to navigate a retrofit\, plus you’ll be able to ask questions to UBC’s Community Energy Coordinator and staff from UBC’s permitting office. \nThis event is free\, but registration is required. Zoom details will be sent 24 hours before event time.
URL:https://www.myuna.ca/event/heat-pump-retrofit-workshop/
LOCATION:Virtual\, Canada
CATEGORIES:Workshop
END:VEVENT
BEGIN:VEVENT
DTSTART;TZID=America/Vancouver:20230422T100000
DTEND;TZID=America/Vancouver:20230422T120000
DTSTAMP:20260421T032858
CREATED:20230310T225121Z
LAST-MODIFIED:20230310T225121Z
UID:15442-1682157600-1682164800@www.myuna.ca
SUMMARY:Earth Day: Drop-In Bike Repair
DESCRIPTION:Celebrate Earth Day by tuning up your ride! Drop by Wesbrook Community Centre and visit UBC’s Bike Kitchen as they teach you the basics of bike maintenance and repair. Plus\, test out the UNA’s new community bike repair stations!
URL:https://www.myuna.ca/event/earth-day-drop-in-bike-repair/
LOCATION:Wesbrook Community Centre\, 3335 Webber Lane\, Vancouver\, BC\, V6S 0H3\, Canada
CATEGORIES:UNA Events,Workshop
ATTACH;FMTTYPE=image/png:https://www.myuna.ca/assets/media/2023/03/Bike-Repair-Workshop.png
END:VEVENT
BEGIN:VEVENT
DTSTART;TZID=America/Vancouver:20230422T103000
DTEND;TZID=America/Vancouver:20230422T120000
DTSTAMP:20260421T032858
CREATED:20230310T225438Z
LAST-MODIFIED:20230405T190815Z
UID:15444-1682159400-1682164800@www.myuna.ca
SUMMARY:Earth Day: Make Your Own Seed-Starting Case
DESCRIPTION:Growing your own plants from seeds is a fun way to make gardening more affordable and to learn about plant life cycles\, support pollinators and reduce waste. \nThis workshop will introduce participants to the idea of growing plants from seed and provide them with the opportunity to create a seed-starting case made of re-used materials as well as discuss gardening and sustainability with fellow gardeners. What does growing plants from seed require\, and what kind of difference can it make in the world? What can we learn from making do with the materials we have\, rather than always purchasing something new? \nJoin our workshop host\, Dr. Erin Despard\, former Artist in Residence at UBC Botanical Garden\, for this educational and inspiring conversation about growing plants and making do. Registration in advance is required\, RSVP here.\n—\nWorkshop cost is $3. No one will be turned away due to lack of funds. If cost is an issue\, please email robyn.chan@myuna.ca.
URL:https://www.myuna.ca/event/earth-day-make-your-own-seed-starting-case/
LOCATION:Wesbrook Community Centre\, 3335 Webber Lane\, Vancouver\, BC\, V6S 0H3\, Canada
CATEGORIES:Workshop
ATTACH;FMTTYPE=image/png:https://www.myuna.ca/assets/media/2023/03/Seed-Starting-PM-Image.png
END:VEVENT
BEGIN:VEVENT
DTSTART;TZID=America/Vancouver:20230423T160000
DTEND;TZID=America/Vancouver:20230423T170000
DTSTAMP:20260421T032858
CREATED:20230330T174733Z
LAST-MODIFIED:20230405T191030Z
UID:15525-1682265600-1682269200@www.myuna.ca
SUMMARY:Children's Gardening Workshop
DESCRIPTION:How does your garden grow? This 1-hour interactive workshop will give kids a hands on opportunity to learn all about gardening. \n– Learn about the sun\, bugs\, and dirt that help plants grow\n– Get up close and observe the creatures that call the garden home\n– Plant a few seedlings in the garden\n– Paint rocks to decorate our Children’s Garden \nKids aged 2-12 are welcome to join (plus a parent). This workshop will be outside\, weather permitting\, so please wear clothes that can get dirty! \nThis workshop is free\, but space is limited. Please register here to save your spot!
URL:https://www.myuna.ca/event/childrens-gardening-workshop/
LOCATION:Old Barn Community Centre\, 6308 Thunderbird Blvd\, Vancouver\, BC\, V6T1Z4\, Canada
CATEGORIES:Community,Education,Workshop
ATTACH;FMTTYPE=image/png:https://www.myuna.ca/assets/media/2023/03/Childrens-Garden-PM-Image.png
END:VEVENT
BEGIN:VEVENT
DTSTART;TZID=America/Vancouver:20230425T120000
DTEND;TZID=America/Vancouver:20230425T133000
DTSTAMP:20260421T032858
CREATED:20230406T173800Z
LAST-MODIFIED:20230406T173800Z
UID:15586-1682424000-1682429400@www.myuna.ca
SUMMARY:Lunch and Learn: Chemical Safety at Home
DESCRIPTION:Bring your lunch to our spacious ground-floor social room overlooking the park. A guest speaker will give a talk with a casual discussion. \nChemical Safety at Home presented by Health Canada \n• How you can identify hazards & health risks \n• What you can do to reduce your exposure to environmental pollutants \n• Maintaining a healthy home \n• Where to find credible information
URL:https://www.myuna.ca/event/lunch-and-learn-chemical-safety-at-home/
LOCATION:Wesbrook Community Centre\, 3335 Webber Lane\, Vancouver\, BC\, V6S 0H3\, Canada
END:VEVENT
BEGIN:VEVENT
DTSTART;TZID=America/Vancouver:20230429T130000
DTEND;TZID=America/Vancouver:20230429T150000
DTSTAMP:20260421T032858
CREATED:20230406T174920Z
LAST-MODIFIED:20230406T174920Z
UID:15588-1682773200-1682780400@www.myuna.ca
SUMMARY:Saturday Afternoon Tea (in Mandarin): The three levels of government in Canada
DESCRIPTION:This program is part of the Live Well\, Stay Strong Project funded by Canada Government’s New Horizons Seniors Program (NHSP) grant. \nSign up for afternoon tea in our spacious ground-floor social room overlooking the park. A guest speaker will lead a casual discussion on various topics.\nRegistration required. Please note\, this session is in Mandarin.\nTopic: Ying Zhou\, a UNA resident who works for Joyce Murray (our local MP)\, will talk about about the functions of the three levels of government in Canada. \n星期六下午茶活动是由加拿大政府新视野老年人计划 (NHSP) 拨款资助的“快乐生活、身心健康”项目的一部分。欢迎大家来参加下午茶活动。地点在WCC社区中心，宽敞明亮紧邻公园的一楼社交活动室。演讲嘉宾将就各自的主题与大家进行畅谈讨论。此项活动需要报名注册。 请注意，本次活动将以普通话进行。话题：加拿大三级政府的职能。此次演讲嘉宾Ying Zhou是为Joyce Murray（我们当地的国会议员）工作的UNA居民。
URL:https://www.myuna.ca/event/saturday-afternoon-tea-in-mandarin-the-three-levels-of-government-in-canada/
LOCATION:Wesbrook Community Centre\, 3335 Webber Lane\, Vancouver\, BC\, V6S 0H3\, Canada
CATEGORIES:Community,Education
END:VEVENT
END:VCALENDAR