BEGIN:VCALENDAR
VERSION:2.0
PRODID:-//UNA - ECPv6.15.18//NONSGML v1.0//EN
CALSCALE:GREGORIAN
METHOD:PUBLISH
X-ORIGINAL-URL:https://www.myuna.ca
X-WR-CALDESC:Events for UNA
REFRESH-INTERVAL;VALUE=DURATION:PT1H
X-Robots-Tag:noindex
X-PUBLISHED-TTL:PT1H
BEGIN:VTIMEZONE
TZID:America/Vancouver
BEGIN:DAYLIGHT
TZOFFSETFROM:-0800
TZOFFSETTO:-0700
TZNAME:PDT
DTSTART:20240310T100000
END:DAYLIGHT
BEGIN:STANDARD
TZOFFSETFROM:-0700
TZOFFSETTO:-0800
TZNAME:PST
DTSTART:20241103T090000
END:STANDARD
BEGIN:DAYLIGHT
TZOFFSETFROM:-0800
TZOFFSETTO:-0700
TZNAME:PDT
DTSTART:20250309T100000
END:DAYLIGHT
BEGIN:STANDARD
TZOFFSETFROM:-0700
TZOFFSETTO:-0800
TZNAME:PST
DTSTART:20251102T090000
END:STANDARD
BEGIN:DAYLIGHT
TZOFFSETFROM:-0800
TZOFFSETTO:-0700
TZNAME:PDT
DTSTART:20260308T100000
END:DAYLIGHT
BEGIN:STANDARD
TZOFFSETFROM:-0700
TZOFFSETTO:-0800
TZNAME:PST
DTSTART:20261101T090000
END:STANDARD
END:VTIMEZONE
BEGIN:VEVENT
DTSTART;TZID=America/Vancouver:20250315T110000
DTEND;TZID=America/Vancouver:20250315T143000
DTSTAMP:20260421T071602
CREATED:20241108T224605Z
LAST-MODIFIED:20250115T224819Z
UID:19382-1742036400-1742049000@www.myuna.ca
SUMMARY:Spring Art Fair
DESCRIPTION:Come celebrate the arts on March 15\, 2025 at the Spring Art Fair! Community members will showcase their talents in this day of creativity and wonder. Enjoy art galleries\, shop at the artisan market\, take in music and performances\, and more! \nFor more information on the event and vendor/performer applications\, please visit myuna.ca/springartfair.
URL:https://www.myuna.ca/event/spring-art-fair-3/
LOCATION:Wesbrook Community Centre\, 3335 Webber Lane\, Vancouver\, BC\, V6S 0H3\, Canada
CATEGORIES:Art,Community,Entertainment,Featured,Festival,Music
ATTACH;FMTTYPE=image/png:https://www.myuna.ca/assets/media/2024/12/UNA-Program-Spring-Art-Fair-Vendor-1920x1080-v2.png
END:VEVENT
BEGIN:VEVENT
DTSTART;TZID=America/Vancouver:20250315T173000
DTEND;TZID=America/Vancouver:20250315T200000
DTSTAMP:20260421T071602
CREATED:20241205T215745Z
LAST-MODIFIED:20250115T224842Z
UID:19587-1742059800-1742068800@www.myuna.ca
SUMMARY:Family Movie Night: Minions the Rise of Gru (2022)
DESCRIPTION:Bring the whole family to the Old Barn Community Centre for Family Movie Night. Admission is $2 per person. Caregivers must accompany their children. Popcorn\, snacks and drinks are available for cash and card purchase. Chairs will be provided but feel free to bring your blankets and pillows for maximum comfort. \nDoors open at 5:30pm\, movie starts at 6pm. \nJan 11: Inside Out 2 \nFeb 22: The Garfield Movie \nMar 15: Minions the Rise of Gru
URL:https://www.myuna.ca/event/family-movie-night-minions-the-rise-of-gru-2022/
LOCATION:Old Barn Community Centre\, 6308 Thunderbird Blvd\, Vancouver\, BC\, V6T1Z4\, Canada
CATEGORIES:UNA Events
ATTACH;FMTTYPE=image/png:https://www.myuna.ca/assets/media/2024/12/UNA-Family-Movie-Night-1920x1080-v2.png
END:VEVENT
BEGIN:VEVENT
DTSTART;TZID=America/Vancouver:20250329T110000
DTEND;TZID=America/Vancouver:20250329T160000
DTSTAMP:20260421T071602
CREATED:20250318T183410Z
LAST-MODIFIED:20250318T183410Z
UID:20131-1743246000-1743264000@www.myuna.ca
SUMMARY:UTSAV Holi 2025
DESCRIPTION:ORGANIZER \nUTSAV – UBC Indian Student’s Association \nEVENT DATE & TIME \nSaturday\, March 29\, 2025 from 11 am to 4 pm \nSETUP DATES & TIMES \nFriday\, March 28\, 2025 from 2 pm to 10 pm and Saturday\, March 29\, 2025 from 7:00 am to 10:30 am \nTAKEDOWN DATE & TIME \nSaturday\, March 29\, 2025 from 4:30pm to 10pm \nPARTICIPANTS \n4000 participants \nPURPOSE \nTo celebrate the festival of colours – Holi. It is a religious Indian festival that is celebrated to worship Goddess Holika. \nDETAILS \n\nNo alcohol served at event\n2 food trucks with valid food permits\nPower-boosted sound system will be used\nOn-site first aid and ambulance\nColor dye will be smeared on event participants – no throwing of color dye\nThird party security will work inside event and TEF 3\, UBC Campus Security and RCMP to work outside event space.\nSound check after 9:00am\nFenced event space\nSound levels will be monitored throughout the event\n\nROAD CLOSURE \nAgronomy Road – Engineering Lane to lane east of West Mall and Thunderbird Crescent @ Thunderbird (lane into Thunderbird Commons) from 10:30 am – 4:30 pm
URL:https://www.myuna.ca/event/utsav-holi-2025/
LOCATION:B4 Lot\, Agronomy Road\, Vancouver\, BC\, V6T1Z4\, Canada
CATEGORIES:Community,Festival,Music
ATTACH;FMTTYPE=image/png:https://www.myuna.ca/assets/media/2025/03/Clipped-Map-B4-Lot.png
END:VEVENT
BEGIN:VEVENT
DTSTART;TZID=America/Vancouver:20250331T100000
DTEND;TZID=America/Vancouver:20250331T130000
DTSTAMP:20260421T071602
CREATED:20250324T202740Z
LAST-MODIFIED:20250324T214005Z
UID:20204-1743415200-1743426000@www.myuna.ca
SUMMARY:Seniors' Open House
DESCRIPTION:As we approach the spring season\, we are offering a Seniors’ Open House on March 31st from 10:00 AM – 1:00 PM at the Wesbrook Community Centre. This is going to be a fun-packed day to showcase some of our most popular seniors’ programs\, all for free! \nThe day will start at 10:00 AM with a welcome\, introduction to some of our volunteers\, instructors\, and staff\, and an opportunity to socialize with your fellow community members. \nFrom 11:15am – 12:15pm\, the following programs will run: \nSeniors’ Gym – West side of the Gymnasium\nTable Tennis for Seniors – East side of the Gymnasium\nWalk and Talk – Meet in the Lounge of Wesbrook Community Centre\, then go to Pacific Spirit Park\nOsteofit with Angie – Multipurpose Room\, 2nd Floor\nMahjong – Youth and Seniors Center\nSong Circle – Art Room \nRegistration for these events is encouraged using the links above\, as there is limited space\, but drop-ins can be facilitated on the event day with the help of UNA staff. \nAt 12:15 PM\, there will be a lunch\, some closing statements\, and more opportunities to socialize. \nAdditionally\, all seniors will have free access to the Wesbrook fitness center from 10:00 AM to 9:45 PM! Register for access using this link. \nWe hope to see you at the Wesbrook Community Centre on the 31st!
URL:https://www.myuna.ca/event/seniors-open-house/
LOCATION:Wesbrook Community Centre\, 3335 Webber Lane\, Vancouver\, BC\, V6S 0H3\, Canada
CATEGORIES:UNA Events
ATTACH;FMTTYPE=image/png:https://www.myuna.ca/assets/media/2025/03/Seniors-House-Web.png
END:VEVENT
END:VCALENDAR